Workbook

Sheet Données
B2: Besoins énergétiques et production annuels
B4: Besoin énergétique | C4: 3500 | D4: kWh
B5: Production | C5: 2000 | D5: kWh
B6: Taille onduleur | C6: 2.2 | D6: kVA
B7: Taille PV | C7: 2.2 | D7: kWc
B9: Fournisseur
B11: Redevance fixe | C11: 61.48 | D11: /an
B12: Energie normale | C12: 0.16422 | D12: /kWh
B13: Cout de l'énergie verte | C13: 0.03032 | D13: /kWh
B15: Cout de réseaux
B17: Distribution normale | C17: 0.0907 | D17: /kWh
B18: Activité de mesure | C18: 13.6 | D18: /kWh
B19: Transport | C19: 0.0212 | D19: /kWh
B20: Prosumer capacitaire | C20: 66.19 | D20: /kWe
B22: Suppléments
B24: Cotisation sur l'énergie | C24: 0.0020417 | D24: /kWh
B25: Redevance raccordement | C25: 0.00075 | D25: /kWh
B26: Accise fédérale | C26: 0.0503288 | D26: /kWh

Sheet Résultats
C2: Autoconsommation
C3: 0 | D3: 0.1 | E3: 0.2 | F3: 0.3 | G3: 0.4 | H3: 0.5 | I3: 0.6 | J3: 0.7 | K3: 0.8 | L3: 0.9 | M3: 1
B4: Production | C4: =Données!$C$5 -> 2000 | D4: =Données!$C$5 -> 2000 | E4: =Données!$C$5 -> 2000 | F4: =Données!$C$5 -> 2000 | G4: =Données!$C$5 -> 2000 | H4: =Données!$C$5 -> 2000 | I4: =Données!$C$5 -> 2000 | J4: =Données!$C$5 -> 2000 | ... M4: =Données!$C$5 -> 2000
B5: Consommation brute | C5: =IF(Données!$C$4-Résultats!C4*C3>0,Données!$C$4-Résultats!C4*C3,0) -> 3500 | D5: =IF(Données!$C$4-Résultats!D4*D3>0,Données!$C$4-Résultats!D4*D3,0) -> 3300 | E5: =IF(Données!$C$4-Résultats!E4*E3>0,Données!$C$4-Résultats!E4*E3,0) -> 3100 | F5: =IF(Données!$C$4-Résultats!F4*F3>0,Données!$C$4-Résultats!F4*F3,0) -> 2900 | G5: =IF(Données!$C$4-Résultats!G4*G3>0,Données!$C$4-Résultats!G4*G3,0) -> 2700 | H5: =IF(Données!$C$4-Résultats!H4*H3>0,Données!$C$4-Résultats!H4*H3,0) -> 2500 | I5: =IF(Données!$C$4-Résultats!I4*I3>0,Données!$C$4-Résultats!I4*I3,0) -> 2300 | J5: =IF(Données!$C$4-Résultats!J4*J3>0,Données!$C$4-Résultats!J4*J3,0) -> 2100 | ... M5: =IF(Données!$C$4-Résultats!M4*M3>0,Données!$C$4-Résultats!M4*M3,0) -> 1500
B6: Injection | C6: =IF(C3*C4<=Données!$C$4,(1-C3)*C4,"Incohérence") -> 2000 | D6: =IF(D3*D4<=Données!$C$4,(1-D3)*D4,"Incohérence") -> 1800 | E6: =IF(E3*E4<=Données!$C$4,(1-E3)*E4,"Incohérence") -> 1600 | F6: =IF(F3*F4<=Données!$C$4,(1-F3)*F4,"Incohérence") -> 1400 | G6: =IF(G3*G4<=Données!$C$4,(1-G3)*G4,"Incohérence") -> 1200 | H6: =IF(H3*H4<=Données!$C$4,(1-H3)*H4,"Incohérence") -> 1000 | I6: =IF(I3*I4<=Données!$C$4,(1-I3)*I4,"Incohérence") -> 800 | J6: =IF(J3*J4<=Données!$C$4,(1-J3)*J4,"Incohérence") -> 600 | ... M6: =IF(M3*M4<=Données!$C$4,(1-M3)*M4,"Incohérence") -> 0
B7: Consommation nette | C7: =C5-C6 -> 1500 | D7: =D5-D6 -> 1500 | E7: =E5-E6 -> 1500 | F7: =F5-F6 -> 1500 | G7: =G5-G6 -> 1500 | H7: =H5-H6 -> 1500 | I7: =I5-I6 -> 1500 | J7: =J5-J6 -> 1500 | ... M7: =M5-M6 -> 1500
B8: Couts fournisseur | C8: =IF(C7>0,Données!$C$11+C7*(Données!$C$12+Données!$C$13),Données!$C$11) -> 353.29 | D8: =IF(D7>0,Données!$C$11+D7*(Données!$C$12+Données!$C$13),Données!$C$11) -> 353.29 | E8: =IF(E7>0,Données!$C$11+E7*(Données!$C$12+Données!$C$13),Données!$C$11) -> 353.29 | F8: =IF(F7>0,Données!$C$11+F7*(Données!$C$12+Données!$C$13),Données!$C$11) -> 353.29 | G8: =IF(G7>0,Données!$C$11+G7*(Données!$C$12+Données!$C$13),Données!$C$11) -> 353.29 | H8: =IF(H7>0,Données!$C$11+H7*(Données!$C$12+Données!$C$13),Données!$C$11) -> 353.29 | I8: =IF(I7>0,Données!$C$11+I7*(Données!$C$12+Données!$C$13),Données!$C$11) -> 353.29 | J8: =IF(J7>0,Données!$C$11+J7*(Données!$C$12+Données!$C$13),Données!$C$11) -> 353.29 | ... M8: =IF(M7>0,Données!$C$11+M7*(Données!$C$12+Données!$C$13),Données!$C$11) -> 353.29
B9: Couts réseaux | C9: =IF(C7>0,C7*(Données!$C$17+Données!$C$19)+Données!$C$18,Données!$C$18) -> 181.45 | D9: =IF(D7>0,D7*(Données!$C$17+Données!$C$19)+Données!$C$18,Données!$C$18) -> 181.45 | E9: =IF(E7>0,E7*(Données!$C$17+Données!$C$19)+Données!$C$18,Données!$C$18) -> 181.45 | F9: =IF(F7>0,F7*(Données!$C$17+Données!$C$19)+Données!$C$18,Données!$C$18) -> 181.45 | G9: =IF(G7>0,G7*(Données!$C$17+Données!$C$19)+Données!$C$18,Données!$C$18) -> 181.45 | H9: =IF(H7>0,H7*(Données!$C$17+Données!$C$19)+Données!$C$18,Données!$C$18) -> 181.45 | I9: =IF(I7>0,I7*(Données!$C$17+Données!$C$19)+Données!$C$18,Données!$C$18) -> 181.45 | J9: =IF(J7>0,J7*(Données!$C$17+Données!$C$19)+Données!$C$18,Données!$C$18) -> 181.45 | ... M9: =IF(M7>0,M7*(Données!$C$17+Données!$C$19)+Données!$C$18,Données!$C$18) -> 181.45
B10: Suppléments | C10: =IF(C7>0,(Données!$C$24+Données!$C$25+Données!$C$26)*C7,0) -> 79.68075 | D10: =IF(D7>0,(Données!$C$24+Données!$C$25+Données!$C$26)*D7,0) -> 79.68075 | E10: =IF(E7>0,(Données!$C$24+Données!$C$25+Données!$C$26)*E7,0) -> 79.68075 | F10: =IF(F7>0,(Données!$C$24+Données!$C$25+Données!$C$26)*F7,0) -> 79.68075 | G10: =IF(G7>0,(Données!$C$24+Données!$C$25+Données!$C$26)*G7,0) -> 79.68075 | H10: =IF(H7>0,(Données!$C$24+Données!$C$25+Données!$C$26)*H7,0) -> 79.68075 | I10: =IF(I7>0,(Données!$C$24+Données!$C$25+Données!$C$26)*I7,0) -> 79.68075 | J10: =IF(J7>0,(Données!$C$24+Données!$C$25+Données!$C$26)*J7,0) -> 79.68075 | ... M10: =IF(M7>0,(Données!$C$24+Données!$C$25+Données!$C$26)*M7,0) -> 79.68075
B11: Total hors prosumer | C11: =C8+C9+C10 -> 614.42075 | D11: =D8+D9+D10 -> 614.42075 | E11: =E8+E9+E10 -> 614.42075 | F11: =F8+F9+F10 -> 614.42075 | G11: =G8+G9+G10 -> 614.42075 | H11: =H8+H9+H10 -> 614.42075 | I11: =I8+I9+I10 -> 614.42075 | J11: =J8+J9+J10 -> 614.42075 | ... M11: =M8+M9+M10 -> 614.42075
B12: Prosumer capacitaire | C12: =MIN(Données!$C$6:$C$7)*Données!$C$20 -> 145.618 | D12: =MIN(Données!$C$6:$C$7)*Données!$C$20 -> 145.618 | E12: =MIN(Données!$C$6:$C$7)*Données!$C$20 -> 145.618 | F12: =MIN(Données!$C$6:$C$7)*Données!$C$20 -> 145.618 | G12: =MIN(Données!$C$6:$C$7)*Données!$C$20 -> 145.618 | H12: =MIN(Données!$C$6:$C$7)*Données!$C$20 -> 145.618 | I12: =MIN(Données!$C$6:$C$7)*Données!$C$20 -> 145.618 | J12: =MIN(Données!$C$6:$C$7)*Données!$C$20 -> 145.618 | ... M12: =MIN(Données!$C$6:$C$7)*Données!$C$20 -> 145.618
B13: Prosumer proportionnel | C13: =IF(C7<0,C5*(Données!$C$17+Données!$C$19),C6*(Données!$C$17+Données!$C$19)) -> 223.8 | D13: =IF(D7<0,D5*(Données!$C$17+Données!$C$19),D6*(Données!$C$17+Données!$C$19)) -> 201.42 | E13: =IF(E7<0,E5*(Données!$C$17+Données!$C$19),E6*(Données!$C$17+Données!$C$19)) -> 179.04 | F13: =IF(F7<0,F5*(Données!$C$17+Données!$C$19),F6*(Données!$C$17+Données!$C$19)) -> 156.66 | G13: =IF(G7<0,G5*(Données!$C$17+Données!$C$19),G6*(Données!$C$17+Données!$C$19)) -> 134.28 | H13: =IF(H7<0,H5*(Données!$C$17+Données!$C$19),H6*(Données!$C$17+Données!$C$19)) -> 111.9 | I13: =IF(I7<0,I5*(Données!$C$17+Données!$C$19),I6*(Données!$C$17+Données!$C$19)) -> 89.52 | J13: =IF(J7<0,J5*(Données!$C$17+Données!$C$19),J6*(Données!$C$17+Données!$C$19)) -> 67.14 | ... M13: =IF(M7<0,M5*(Données!$C$17+Données!$C$19),M6*(Données!$C$17+Données!$C$19)) -> 0
B14: Total avec prosumer | C14: =C11+MIN(C12:C13) -> 760.03875 | D14: =D11+MIN(D12:D13) -> 760.03875 | E14: =E11+MIN(E12:E13) -> 760.03875 | F14: =F11+MIN(F12:F13) -> 760.03875 | G14: =G11+MIN(G12:G13) -> 748.70075 | H14: =H11+MIN(H12:H13) -> 726.32075 | I14: =I11+MIN(I12:I13) -> 703.94075 | J14: =J11+MIN(J12:J13) -> 681.56075 | ... M14: =M11+MIN(M12:M13) -> 614.42075
B15: Mensualité | C15: =C14/12 -> 63.336562 | D15: =D14/12 -> 63.336562 | E15: =E14/12 -> 63.336562 | F15: =F14/12 -> 63.336562 | G15: =G14/12 -> 62.391729 | H15: =H14/12 -> 60.526729 | I15: =I14/12 -> 58.661729 | J15: =J14/12 -> 56.796729 | ... M15: =M14/12 -> 51.201729
