Workbook

Sheet Données
B2: Besoins énergétiques et production annuels
B4: Besoin énergétique | C4: 3500 | D4: kWh
B5: Production | C5: 2000 | D5: kWh
B7: Fournisseur
B9: Redevance fixe | C9: 61.48 | D9: /an
B10: Energie normale | C10: 0.16422 | D10: /kWh
B11: Cout de l'énergie verte | C11: 0.03032 | D11: /kWh
B12: Injection Normale | C12: 0.03876 | D12: /kWh
B14: Cout de réseaux
B16: Distribution normale | C16: 0.0907 | D16: /kWh
B17: Activité de mesure | C17: 13.6 | D17: /kWh
B18: Transport | C18: 0.0212 | D18: /kWh
B19: Prosumer capacitaire | C19: 66.19 | D19: /kWe
B21: Suppléments
B23: Cotisation sur l'énergie | C23: 0.0020417 | D23: /kWh
B24: Redevance raccordement | C24: 0.00075 | D24: /kWh
B25: Accise fédérale | C25: 0.0503288 | D25: /kWh

Sheet Résultats
C2: Autoconsommation
C3: 0 | D3: 0.1 | E3: 0.2 | F3: 0.3 | G3: 0.4 | H3: 0.5 | I3: 0.6 | J3: 0.7 | K3: 0.8 | L3: 0.9 | M3: 1
B4: Production | C4: =Données!$C$5 -> 2000 | D4: =Données!$C$5 -> 2000 | E4: =Données!$C$5 -> 2000 | F4: =Données!$C$5 -> 2000 | G4: =Données!$C$5 -> 2000 | H4: =Données!$C$5 -> 2000 | I4: =Données!$C$5 -> 2000 | J4: =Données!$C$5 -> 2000 | ... M4: =Données!$C$5 -> 2000
B5: Consommation brute | C5: =IF(Données!$C$4-Résultats!C4*Résultats!C3>0,Données!$C$4-Résultats!C3*Résultats!C4,0) -> 3500 | D5: =IF(Données!$C$4-Résultats!D4*Résultats!D3>0,Données!$C$4-Résultats!D3*Résultats!D4,0) -> 3300 | E5: =IF(Données!$C$4-Résultats!E4*Résultats!E3>0,Données!$C$4-Résultats!E3*Résultats!E4,0) -> 3100 | F5: =IF(Données!$C$4-Résultats!F4*Résultats!F3>0,Données!$C$4-Résultats!F3*Résultats!F4,0) -> 2900 | G5: =IF(Données!$C$4-Résultats!G4*Résultats!G3>0,Données!$C$4-Résultats!G3*Résultats!G4,0) -> 2700 | H5: =IF(Données!$C$4-Résultats!H4*Résultats!H3>0,Données!$C$4-Résultats!H3*Résultats!H4,0) -> 2500 | I5: =IF(Données!$C$4-Résultats!I4*Résultats!I3>0,Données!$C$4-Résultats!I3*Résultats!I4,0) -> 2300 | J5: =IF(Données!$C$4-Résultats!J4*Résultats!J3>0,Données!$C$4-Résultats!J3*Résultats!J4,0) -> 2100 | ... M5: =IF(Données!$C$4-Résultats!M4*Résultats!M3>0,Données!$C$4-Résultats!M3*Résultats!M4,0) -> 1500
B6: Injection | C6: =IF(C3*C4<=Données!$C$4,(1-C3)*C4,"Incohérence") -> 2000 | D6: =IF(D3*D4<=Données!$C$4,(1-D3)*D4,"Incohérence") -> 1800 | E6: =IF(E3*E4<=Données!$C$4,(1-E3)*E4,"Incohérence") -> 1600 | F6: =IF(F3*F4<=Données!$C$4,(1-F3)*F4,"Incohérence") -> 1400 | G6: =IF(G3*G4<=Données!$C$4,(1-G3)*G4,"Incohérence") -> 1200 | H6: =IF(H3*H4<=Données!$C$4,(1-H3)*H4,"Incohérence") -> 1000 | I6: =IF(I3*I4<=Données!$C$4,(1-I3)*I4,"Incohérence") -> 800 | J6: =IF(J3*J4<=Données!$C$4,(1-J3)*J4,"Incohérence") -> 600 | ... M6: =IF(M3*M4<=Données!$C$4,(1-M3)*M4,"Incohérence") -> 0
B7: Consommation nette | C7: =C5-C6 -> 1500 | D7: =D5-D6 -> 1500 | E7: =E5-E6 -> 1500 | F7: =F5-F6 -> 1500 | G7: =G5-G6 -> 1500 | H7: =H5-H6 -> 1500 | I7: =I5-I6 -> 1500 | J7: =J5-J6 -> 1500 | ... M7: =M5-M6 -> 1500
B8: Couts fournisseur | C8: =Résultats!C5*(Données!$C$10+Données!$C$11)+Données!$C$9 -> 742.37 | D8: =Résultats!D5*(Données!$C$10+Données!$C$11)+Données!$C$9 -> 703.462 | E8: =Résultats!E5*(Données!$C$10+Données!$C$11)+Données!$C$9 -> 664.554 | F8: =Résultats!F5*(Données!$C$10+Données!$C$11)+Données!$C$9 -> 625.646 | G8: =Résultats!G5*(Données!$C$10+Données!$C$11)+Données!$C$9 -> 586.738 | H8: =Résultats!H5*(Données!$C$10+Données!$C$11)+Données!$C$9 -> 547.83 | I8: =Résultats!I5*(Données!$C$10+Données!$C$11)+Données!$C$9 -> 508.922 | J8: =Résultats!J5*(Données!$C$10+Données!$C$11)+Données!$C$9 -> 470.014 | ... M8: =Résultats!M5*(Données!$C$10+Données!$C$11)+Données!$C$9 -> 353.29
B9: Couts réseaux | C9: =C5*(Données!$C$16+Données!$C$18)+Données!$C$17 -> 405.25 | D9: =D5*(Données!$C$16+Données!$C$18)+Données!$C$17 -> 382.87 | E9: =E5*(Données!$C$16+Données!$C$18)+Données!$C$17 -> 360.49 | F9: =F5*(Données!$C$16+Données!$C$18)+Données!$C$17 -> 338.11 | G9: =G5*(Données!$C$16+Données!$C$18)+Données!$C$17 -> 315.73 | H9: =H5*(Données!$C$16+Données!$C$18)+Données!$C$17 -> 293.35 | I9: =I5*(Données!$C$16+Données!$C$18)+Données!$C$17 -> 270.97 | J9: =J5*(Données!$C$16+Données!$C$18)+Données!$C$17 -> 248.59 | ... M9: =M5*(Données!$C$16+Données!$C$18)+Données!$C$17 -> 181.45
B10: Suppléments | C10: =C5*(Données!$C$23+Données!$C$24+Données!$C$25) -> 185.92175 | D10: =D5*(Données!$C$23+Données!$C$24+Données!$C$25) -> 175.29765 | E10: =E5*(Données!$C$23+Données!$C$24+Données!$C$25) -> 164.67355 | F10: =F5*(Données!$C$23+Données!$C$24+Données!$C$25) -> 154.04945 | G10: =G5*(Données!$C$23+Données!$C$24+Données!$C$25) -> 143.42535 | H10: =H5*(Données!$C$23+Données!$C$24+Données!$C$25) -> 132.80125 | I10: =I5*(Données!$C$23+Données!$C$24+Données!$C$25) -> 122.17715 | J10: =J5*(Données!$C$23+Données!$C$24+Données!$C$25) -> 111.55305 | ... M10: =M5*(Données!$C$23+Données!$C$24+Données!$C$25) -> 79.68075
B11: Vente électricité | C11: =-C6*Données!$C$12 -> -77.52 | D11: =-D6*Données!$C$12 -> -69.768 | E11: =-E6*Données!$C$12 -> -62.016 | F11: =-F6*Données!$C$12 -> -54.264 | G11: =-G6*Données!$C$12 -> -46.512 | H11: =-H6*Données!$C$12 -> -38.76 | I11: =-I6*Données!$C$12 -> -31.008 | J11: =-J6*Données!$C$12 -> -23.256 | ... M11: =-M6*Données!$C$12 -> 0
B12: Total | C12: =SUM(C8:C11) -> 1256.0217 | D12: =SUM(D8:D11) -> 1191.8616 | E12: =SUM(E8:E11) -> 1127.7015 | F12: =SUM(F8:F11) -> 1063.5415 | G12: =SUM(G8:G11) -> 999.38135 | H12: =SUM(H8:H11) -> 935.22125 | I12: =SUM(I8:I11) -> 871.06115 | J12: =SUM(J8:J11) -> 806.90105 | ... M12: =SUM(M8:M11) -> 614.42075
B13: Mensualité | C13: =C12/12 -> 104.66848 | D13: =D12/12 -> 99.321804 | E13: =E12/12 -> 93.975129 | F13: =F12/12 -> 88.628454 | G13: =G12/12 -> 83.281779 | H13: =H12/12 -> 77.935104 | I13: =I12/12 -> 72.588429 | J13: =J12/12 -> 67.241754 | ... M13: =M12/12 -> 51.201729
