Workbook

Sheet Données
A1: Données | J1: Résultats
A3: Données installation PV
J4: Tarifi prosumer capacitaire
A5: Taille de l'onduleur | C5: 2 | D5: kVA
A6: Puissance crête | C6: 2 | D6: kWc | J6: Taille installation | L6: =IF(C5:C6="","",MIN(C5:C6)) -> 2 | M6: kWe
A7: Production annuelle | C7: 1900 | D7: kWh | J7: Prosumer | L7: =IF(L6="","",L6*Calculs!B29) -> 132.38
A9: Nature du compteur | J9: Tarif prosumer proportionel
A11: Type de compteur | C11: Communicant | J11: Injection connue :
A12: Type de tarification | C12: Mono-horaire | J12: Prosumer | L12: =Calculs!F31 -> 5.595
A14: Données de production et de consommation annuelles | J14: Injection inconnue :
A16: =IF( AND(C$11=Calculs!B$4,C$12=Calculs!B$7),Calculs!A12,"") | E16: =IF(A16="","","kWh") | J16: Seuil d'autoconsommation | L16: =Calculs!F38 -> 0.3773576
A17: =IF( AND(C$11=Calculs!B$4,C$12=Calculs!B$8),Calculs!A13,"") | E17: =IF(A17="","","kWh")
A18: =IF( AND(C$11=Calculs!B$4,C$12=Calculs!B$8),Calculs!A14,"") | E18: =IF(A18="","","kWh")
A19: =IF( AND(C$11=Calculs!B$5,C$12=Calculs!B$7),Calculs!A15,"") -> Consommation brute mono-horaire | D19: 100 | E19: =IF(A19="","","kWh") -> kWh
A20: =IF( AND(C$11=Calculs!B$5,C$12=Calculs!B$8),Calculs!A16,"") | E20: =IF(A20="","","kWh")
A21: =IF( AND(C$11=Calculs!B$5,C$12=Calculs!B$8),Calculs!A17,"") | E21: =IF(A21="","","kWh")
A22: =IF( AND(C$11=Calculs!B$5,C$12=Calculs!B$7),Calculs!A18,"") -> Injection mono-horaire | D22: 50 | E22: =IF(A22="","","kWh") -> kWh
A23: =IF( AND(C$11=Calculs!B$5,C$12=Calculs!B$8),Calculs!A19,"") | E23: =IF(A23="","","kWh")
A24: =IF( AND(C$11=Calculs!B$5,C$12=Calculs!B$8),Calculs!A20,"") | E24: =IF(A24="","","kWh")
E25: =IF(A25="","","kWh")
E26: =IF(A26="","","kWh")
E27: =IF(A27="","","kWh")
E28: =IF(A28="","","kWh")

Sheet Calculs
A3: Compteur
A4: Type de compteur | B4: Électromécanique
B5: Communicant
A7: Tarification | B7: Mono-horaire
B8: Bi-horaire
A10: Index
A12: Consommation nette mono-horaire
A13: Consommation nette jour
A14: Consommation nette nuit
A15: Consommation brute mono-horaire
A16: Consommation brute jour
A17: Consommation brute nuit
A18: Injection mono-horaire
A19: Injection jour
A20: Injection nuit
A22: Cout de réseau 2024 BW
C23: Consommation nette | D23: Brute | E23: Injection
A24: Distribution normale | B24: 0.0907 | C24: =D24-E24 -> 50 | D24: =Données!D19 -> 100 | E24: =Données!D22 -> 50 | F24: =D24*B24-IF(C24>0,B24*C24,0) -> 4.535
A25: Distribution jour | B25: 0.0963 | C25: =Données!D20-Données!D23 -> 0 | D25: =Données!D20 -> 0 | E25: =Données!D23 -> 0 | F25: =D25*B25-IF(C25>0,B25*C25,0) -> 0
A26: Distribution nuit | B26: 0.0566 | C26: =Données!D21-Données!D24 -> 0 | D26: =Données!D21 -> 0 | E26: =Données!D24 -> 0 | F26: =D26*B26-IF(C26>0,B26*C26,0) -> 0
A27: Activité de mesure | B27: 13.6 | F27: =D27*B27-IF(C27>0,B27*C27,0) -> 0
A28: Transport | B28: 0.0212 | C28: =SUM(C24:C26) -> 50 | D28: =SUM(D24:D26) -> 100 | E28: =SUM(E24:E26) -> 50 | F28: =D28*B28-IF(C28>0,B28*C28,0) -> 1.06
A29: Prosumer | B29: 66.19
F31: =SUM(F24:F28) -> 5.595
A36: Autoconsommation
B37: Capacitaire | C37: Proportionnel
A38: 0 | B38: =Données!$L$7 -> 132.38 | C38: =Données!C$7*(1-A38)*(B$28+IF(Données!C$12=Calculs!B$7,Calculs!B$24,5/7*Calculs!B$25+2/7*Calculs!B$26)) -> 212.61 | F38: =1-(Données!$L$7/Données!C$7/(B$28+IF(Données!C$12=Calculs!B$7,Calculs!B$24,5/7*Calculs!B$25+2/7*Calculs!B$26))) -> 0.3773576
A39: 0.05 | B39: =Données!$L$7 -> 132.38 | C39: =Données!C$7*(1-A39)*(B$28+IF(Données!C$12=Calculs!B$7,Calculs!B$24,5/7*Calculs!B$25+2/7*Calculs!B$26)) -> 201.9795
A40: 0.1 | B40: =Données!$L$7 -> 132.38 | C40: =Données!C$7*(1-A40)*(B$28+IF(Données!C$12=Calculs!B$7,Calculs!B$24,5/7*Calculs!B$25+2/7*Calculs!B$26)) -> 191.349
A41: 0.15 | B41: =Données!$L$7 -> 132.38 | C41: =Données!C$7*(1-A41)*(B$28+IF(Données!C$12=Calculs!B$7,Calculs!B$24,5/7*Calculs!B$25+2/7*Calculs!B$26)) -> 180.7185
A42: 0.2 | B42: =Données!$L$7 -> 132.38 | C42: =Données!C$7*(1-A42)*(B$28+IF(Données!C$12=Calculs!B$7,Calculs!B$24,5/7*Calculs!B$25+2/7*Calculs!B$26)) -> 170.088
A43: 0.25 | B43: =Données!$L$7 -> 132.38 | C43: =Données!C$7*(1-A43)*(B$28+IF(Données!C$12=Calculs!B$7,Calculs!B$24,5/7*Calculs!B$25+2/7*Calculs!B$26)) -> 159.4575
A44: 0.3 | B44: =Données!$L$7 -> 132.38 | C44: =Données!C$7*(1-A44)*(B$28+IF(Données!C$12=Calculs!B$7,Calculs!B$24,5/7*Calculs!B$25+2/7*Calculs!B$26)) -> 148.827
A45: 0.35 | B45: =Données!$L$7 -> 132.38 | C45: =Données!C$7*(1-A45)*(B$28+IF(Données!C$12=Calculs!B$7,Calculs!B$24,5/7*Calculs!B$25+2/7*Calculs!B$26)) -> 138.1965
A46: 0.4 | B46: =Données!$L$7 -> 132.38 | C46: =Données!C$7*(1-A46)*(B$28+IF(Données!C$12=Calculs!B$7,Calculs!B$24,5/7*Calculs!B$25+2/7*Calculs!B$26)) -> 127.566
A47: 0.45 | B47: =Données!$L$7 -> 132.38 | C47: =Données!C$7*(1-A47)*(B$28+IF(Données!C$12=Calculs!B$7,Calculs!B$24,5/7*Calculs!B$25+2/7*Calculs!B$26)) -> 116.9355
A48: 0.5 | B48: =Données!$L$7 -> 132.38 | C48: =Données!C$7*(1-A48)*(B$28+IF(Données!C$12=Calculs!B$7,Calculs!B$24,5/7*Calculs!B$25+2/7*Calculs!B$26)) -> 106.305
A49: 0.55 | B49: =Données!$L$7 -> 132.38 | C49: =Données!C$7*(1-A49)*(B$28+IF(Données!C$12=Calculs!B$7,Calculs!B$24,5/7*Calculs!B$25+2/7*Calculs!B$26)) -> 95.6745
A50: 0.6 | B50: =Données!$L$7 -> 132.38 | C50: =Données!C$7*(1-A50)*(B$28+IF(Données!C$12=Calculs!B$7,Calculs!B$24,5/7*Calculs!B$25+2/7*Calculs!B$26)) -> 85.044
... A58: 1 | B58: =Données!$L$7 -> 132.38 | C58: =Données!C$7*(1-A58)*(B$28+IF(Données!C$12=Calculs!B$7,Calculs!B$24,5/7*Calculs!B$25+2/7*Calculs!B$26)) -> 0
